Package: BiSeq Version: 1.46.0 Command: /home/biocbuild/R/R/bin/R CMD check --install=check:BiSeq.install-out.txt --library=/home/biocbuild/R/R/site-library --no-vignettes --timings BiSeq_1.46.0.tar.gz StartedAt: 2025-01-31 04:26:42 -0000 (Fri, 31 Jan 2025) EndedAt: 2025-01-31 04:32:48 -0000 (Fri, 31 Jan 2025) EllapsedTime: 366.4 seconds RetCode: 0 Status: OK CheckDir: BiSeq.Rcheck Warnings: 0