Package: BiSeq Version: 1.46.0 Command: /home/biocbuild/R/R/bin/R CMD INSTALL BiSeq StartedAt: 2025-01-30 20:53:55 -0000 (Thu, 30 Jan 2025) EndedAt: 2025-01-30 20:54:46 -0000 (Thu, 30 Jan 2025) EllapsedTime: 51.3 seconds RetCode: 0 Status: OK