Package: BicARE Version: 1.64.0 Command: rm -rf BicARE.buildbin-libdir && mkdir BicARE.buildbin-libdir && /Users/biocbuild/BBS/utils/build-universal.sh BicARE_1.64.0.tar.gz /Library/Frameworks/R.framework/Resources/bin/R BicARE.buildbin-libdir StartedAt: 2025-02-01 14:02:31 -0500 (Sat, 01 Feb 2025) EndedAt: 2025-02-01 14:02:57 -0500 (Sat, 01 Feb 2025) EllapsedTime: 26.2 seconds RetCode: 0 Status: OK PackageFile: BicARE_1.64.0.tgz PackageFileSize: 505.4 KiB