Package: BicARE Version: 1.64.0 Command: rm -rf BicARE.buildbin-libdir && mkdir BicARE.buildbin-libdir && /Users/biocbuild/BBS/utils/build-universal.sh BicARE_1.64.0.tar.gz /Library/Frameworks/R.framework/Resources/bin/R BicARE.buildbin-libdir StartedAt: 2025-01-31 12:23:32 -0500 (Fri, 31 Jan 2025) EndedAt: 2025-01-31 12:24:17 -0500 (Fri, 31 Jan 2025) EllapsedTime: 45.4 seconds RetCode: 0 Status: OK PackageFile: BicARE_1.64.0.tgz PackageFileSize: 506.9 KiB