Package: BicARE Version: 1.64.0 Command: /Library/Frameworks/R.framework/Resources/bin/R CMD build --keep-empty-dirs --no-resave-data BicARE StartedAt: 2025-01-30 17:22:05 -0500 (Thu, 30 Jan 2025) EndedAt: 2025-01-30 17:28:22 -0500 (Thu, 30 Jan 2025) EllapsedTime: 376.9 seconds RetCode: 0 Status: OK PackageFile: BicARE_1.64.0.tar.gz PackageFileSize: 460.2 KiB