Package: BicARE Version: 1.64.0 Command: /Library/Frameworks/R.framework/Resources/bin/R CMD check --install=check:BicARE.install-out.txt --library=/Library/Frameworks/R.framework/Resources/library --no-vignettes --timings BicARE_1.64.0.tar.gz StartedAt: 2025-01-31 00:37:53 -0500 (Fri, 31 Jan 2025) EndedAt: 2025-01-31 01:00:35 -0500 (Fri, 31 Jan 2025) EllapsedTime: 1361.5 seconds RetCode: 0 Status: OK CheckDir: BicARE.Rcheck Warnings: 0