Package: BicARE Version: 1.64.0 Command: /Library/Frameworks/R.framework/Resources/bin/R CMD INSTALL BicARE StartedAt: 2025-01-30 16:22:02 -0500 (Thu, 30 Jan 2025) EndedAt: 2025-01-30 16:22:45 -0500 (Thu, 30 Jan 2025) EllapsedTime: 42.6 seconds RetCode: 0 Status: OK