Package: BicARE Version: 1.64.0 Command: /home/biocbuild/bbs-3.20-bioc/R/bin/R CMD build --keep-empty-dirs --no-resave-data --md5 BicARE StartedAt: 2025-01-30 16:22:00 -0500 (Thu, 30 Jan 2025) EndedAt: 2025-01-30 16:24:14 -0500 (Thu, 30 Jan 2025) EllapsedTime: 134.1 seconds RetCode: 0 Status: OK PackageFile: BicARE_1.64.0.tar.gz PackageFileSize: 461.4 KiB