Package: BicARE Version: 1.64.0 Command: /home/biocbuild/bbs-3.20-bioc/R/bin/R CMD check --install=check:BicARE.install-out.txt --library=/home/biocbuild/bbs-3.20-bioc/R/site-library --timings BicARE_1.64.0.tar.gz StartedAt: 2025-01-30 20:11:05 -0500 (Thu, 30 Jan 2025) EndedAt: 2025-01-30 20:14:59 -0500 (Thu, 30 Jan 2025) EllapsedTime: 234.2 seconds RetCode: 0 Status: OK CheckDir: BicARE.Rcheck Warnings: 0