Package: BicARE Version: 1.64.0 Command: F:\biocbuild\bbs-3.20-bioc\R\bin\R.exe CMD check --no-multiarch --install=check:BicARE.install-out.txt --library=F:\biocbuild\bbs-3.20-bioc\R\library --no-vignettes --timings BicARE_1.64.0.tar.gz StartedAt: 2025-01-30 23:41:48 -0500 (Thu, 30 Jan 2025) EndedAt: 2025-01-30 23:56:10 -0500 (Thu, 30 Jan 2025) EllapsedTime: 861.9 seconds RetCode: 0 Status: OK CheckDir: BicARE.Rcheck Warnings: 0