Package: BindingSiteFinder Version: 2.4.0 Command: rm -rf BindingSiteFinder.buildbin-libdir && mkdir BindingSiteFinder.buildbin-libdir && /Users/biocbuild/BBS/utils/build-universal.sh BindingSiteFinder_2.4.0.tar.gz /Library/Frameworks/R.framework/Resources/bin/R BindingSiteFinder.buildbin-libdir StartedAt: 2025-02-05 14:57:38 -0500 (Wed, 05 Feb 2025) EndedAt: 2025-02-05 14:58:35 -0500 (Wed, 05 Feb 2025) EllapsedTime: 57.3 seconds RetCode: 0 Status: OK PackageFile: BindingSiteFinder_2.4.0.tgz PackageFileSize: 3.228 MiB