Package: BindingSiteFinder Version: 2.4.0 Command: /Library/Frameworks/R.framework/Resources/bin/R CMD build --keep-empty-dirs --no-resave-data BindingSiteFinder StartedAt: 2025-01-30 19:34:42 -0500 (Thu, 30 Jan 2025) EndedAt: 2025-01-30 19:37:48 -0500 (Thu, 30 Jan 2025) EllapsedTime: 186.4 seconds RetCode: 0 Status: OK PackageFile: BindingSiteFinder_2.4.0.tar.gz PackageFileSize: 2.838 MiB