Package: BindingSiteFinder Version: 2.4.0 Command: /Library/Frameworks/R.framework/Resources/bin/R CMD INSTALL BindingSiteFinder StartedAt: 2025-01-30 16:38:20 -0500 (Thu, 30 Jan 2025) EndedAt: 2025-01-30 16:39:12 -0500 (Thu, 30 Jan 2025) EllapsedTime: 52.4 seconds RetCode: 0 Status: OK