Package: BindingSiteFinder Version: 2.4.0 Command: /Library/Frameworks/R.framework/Resources/bin/R CMD build --keep-empty-dirs --no-resave-data BindingSiteFinder StartedAt: 2025-02-03 17:19:05 -0500 (Mon, 03 Feb 2025) EndedAt: 2025-02-03 17:26:02 -0500 (Mon, 03 Feb 2025) EllapsedTime: 417.1 seconds RetCode: 0 Status: OK PackageFile: BindingSiteFinder_2.4.0.tar.gz PackageFileSize: 2.837 MiB