Package: BindingSiteFinder Version: 2.4.0 Command: rm -rf BindingSiteFinder.buildbin-libdir && mkdir BindingSiteFinder.buildbin-libdir && F:\biocbuild\bbs-3.20-bioc\R\bin\R.exe CMD INSTALL --build --library=BindingSiteFinder.buildbin-libdir BindingSiteFinder_2.4.0.tar.gz StartedAt: 2025-01-31 08:13:02 -0500 (Fri, 31 Jan 2025) EndedAt: 2025-01-31 08:17:49 -0500 (Fri, 31 Jan 2025) EllapsedTime: 287.5 seconds RetCode: 0 Status: OK PackageFile: BindingSiteFinder_2.4.0.zip PackageFileSize: 2.545 MiB