Package: BindingSiteFinder Version: 2.4.0 Command: chmod a+r BindingSiteFinder -R && F:\biocbuild\bbs-3.20-bioc\R\bin\R.exe CMD build --keep-empty-dirs --no-resave-data BindingSiteFinder StartedAt: 2025-02-03 17:42:26 -0500 (Mon, 03 Feb 2025) EndedAt: 2025-02-03 17:46:58 -0500 (Mon, 03 Feb 2025) EllapsedTime: 272.5 seconds RetCode: 0 Status: OK PackageFile: BindingSiteFinder_2.4.0.tar.gz PackageFileSize: 2.15 MiB