Package: BindingSiteFinder Version: 2.4.0 Command: F:\biocbuild\bbs-3.20-bioc\R\bin\R.exe CMD check --no-multiarch --install=check:BindingSiteFinder.install-out.txt --library=F:\biocbuild\bbs-3.20-bioc\R\library --no-vignettes --timings BindingSiteFinder_2.4.0.tar.gz StartedAt: 2025-01-30 23:42:22 -0500 (Thu, 30 Jan 2025) EndedAt: 2025-01-31 00:07:13 -0500 (Fri, 31 Jan 2025) EllapsedTime: 1491.3 seconds RetCode: 0 Status: OK CheckDir: BindingSiteFinder.Rcheck Warnings: 0