Package: BindingSiteFinder Version: 2.4.0 Command: F:\biocbuild\bbs-3.20-bioc\R\bin\R.exe CMD INSTALL BindingSiteFinder StartedAt: 2025-01-30 16:08:27 -0500 (Thu, 30 Jan 2025) EndedAt: 2025-01-30 16:12:05 -0500 (Thu, 30 Jan 2025) EllapsedTime: 218.3 seconds RetCode: 0 Status: OK