Package: BindingSiteFinder Version: 2.4.0 Command: /home/biocbuild/R/R/bin/R CMD build --keep-empty-dirs --no-resave-data BindingSiteFinder StartedAt: 2025-01-30 21:55:44 -0000 (Thu, 30 Jan 2025) EndedAt: 2025-01-30 21:59:13 -0000 (Thu, 30 Jan 2025) EllapsedTime: 209.1 seconds RetCode: 0 Status: OK PackageFile: BindingSiteFinder_2.4.0.tar.gz PackageFileSize: 2.216 MiB