Package: BindingSiteFinder Version: 2.4.0 Command: /home/biocbuild/R/R/bin/R CMD INSTALL BindingSiteFinder StartedAt: 2025-01-30 20:39:17 -0000 (Thu, 30 Jan 2025) EndedAt: 2025-01-30 20:40:09 -0000 (Thu, 30 Jan 2025) EllapsedTime: 52.1 seconds RetCode: 0 Status: OK