Package: BioCartaImage Version: 1.4.0 Command: /Library/Frameworks/R.framework/Resources/bin/R CMD build --keep-empty-dirs --no-resave-data BioCartaImage StartedAt: 2025-02-03 19:27:27 -0500 (Mon, 03 Feb 2025) EndedAt: 2025-02-03 19:27:43 -0500 (Mon, 03 Feb 2025) EllapsedTime: 16.0 seconds RetCode: 0 Status: OK PackageFile: BioCartaImage_1.4.0.tar.gz PackageFileSize: 3.627 MiB