Package: BioCartaImage Version: 1.4.0 Command: /Library/Frameworks/R.framework/Resources/bin/R CMD INSTALL BioCartaImage StartedAt: 2025-02-03 15:14:33 -0500 (Mon, 03 Feb 2025) EndedAt: 2025-02-03 15:14:58 -0500 (Mon, 03 Feb 2025) EllapsedTime: 24.5 seconds RetCode: 0 Status: OK