Package: BioCartaImage Version: 1.4.0 Command: rm -rf BioCartaImage.buildbin-libdir && mkdir BioCartaImage.buildbin-libdir && F:\biocbuild\bbs-3.20-bioc\R\bin\R.exe CMD INSTALL --build --library=BioCartaImage.buildbin-libdir BioCartaImage_1.4.0.tar.gz StartedAt: 2025-02-04 08:02:41 -0500 (Tue, 04 Feb 2025) EndedAt: 2025-02-04 08:03:14 -0500 (Tue, 04 Feb 2025) EllapsedTime: 33.0 seconds RetCode: 0 Status: OK PackageFile: BioCartaImage_1.4.0.zip PackageFileSize: 3.668 MiB