Package: BioCartaImage Version: 1.4.0 Command: /home/biocbuild/R/R/bin/R CMD build --keep-empty-dirs --no-resave-data BioCartaImage StartedAt: 2025-02-03 22:00:01 -0000 (Mon, 03 Feb 2025) EndedAt: 2025-02-03 22:00:23 -0000 (Mon, 03 Feb 2025) EllapsedTime: 22.0 seconds RetCode: 0 Status: OK PackageFile: BioCartaImage_1.4.0.tar.gz PackageFileSize: 1.994 MiB