Package: BioCartaImage Version: 1.4.0 Command: /home/biocbuild/R/R/bin/R CMD check --install=check:BioCartaImage.install-out.txt --library=/home/biocbuild/R/R/site-library --no-vignettes --timings BioCartaImage_1.4.0.tar.gz StartedAt: 2025-02-04 04:47:45 -0000 (Tue, 04 Feb 2025) EndedAt: 2025-02-04 04:48:54 -0000 (Tue, 04 Feb 2025) EllapsedTime: 69.2 seconds RetCode: 0 Status: OK CheckDir: BioCartaImage.Rcheck Warnings: 0