Package: BioCartaImage Version: 1.4.0 Command: /home/biocbuild/R/R/bin/R CMD INSTALL BioCartaImage StartedAt: 2025-02-03 20:23:25 -0000 (Mon, 03 Feb 2025) EndedAt: 2025-02-03 20:23:53 -0000 (Mon, 03 Feb 2025) EllapsedTime: 27.7 seconds RetCode: 0 Status: OK