Package: BioCor Version: 1.30.0 Command: /Library/Frameworks/R.framework/Resources/bin/R CMD INSTALL BioCor StartedAt: 2025-02-03 15:54:32 -0500 (Mon, 03 Feb 2025) EndedAt: 2025-02-03 15:54:55 -0500 (Mon, 03 Feb 2025) EllapsedTime: 22.8 seconds RetCode: 0 Status: OK