Package: BioCor Version: 1.30.0 Command: F:\biocbuild\bbs-3.20-bioc\R\bin\R.exe CMD INSTALL BioCor StartedAt: 2025-02-10 16:00:51 -0500 (Mon, 10 Feb 2025) EndedAt: 2025-02-10 16:01:22 -0500 (Mon, 10 Feb 2025) EllapsedTime: 31.8 seconds RetCode: 0 Status: OK