Package: BioCor Version: 1.30.0 Command: /home/biocbuild/R/R/bin/R CMD build --keep-empty-dirs --no-resave-data BioCor StartedAt: 2025-02-03 22:01:48 -0000 (Mon, 03 Feb 2025) EndedAt: 2025-02-03 22:05:48 -0000 (Mon, 03 Feb 2025) EllapsedTime: 240.1 seconds RetCode: 0 Status: OK PackageFile: BioCor_1.30.0.tar.gz PackageFileSize: 1.208 MiB