Package: BioCor Version: 1.30.0 Command: /home/biocbuild/R/R/bin/R CMD INSTALL BioCor StartedAt: 2025-02-03 20:39:17 -0000 (Mon, 03 Feb 2025) EndedAt: 2025-02-03 20:39:43 -0000 (Mon, 03 Feb 2025) EllapsedTime: 25.8 seconds RetCode: 0 Status: OK