Package: BioNERO Version: 1.14.0 Command: /Library/Frameworks/R.framework/Resources/bin/R CMD check --install=check:BioNERO.install-out.txt --library=/Library/Frameworks/R.framework/Resources/library --no-vignettes --timings BioNERO_1.14.0.tar.gz StartedAt: 2025-02-04 00:25:05 -0500 (Tue, 04 Feb 2025) EndedAt: 2025-02-04 00:40:41 -0500 (Tue, 04 Feb 2025) EllapsedTime: 936.6 seconds RetCode: 0 Status: OK CheckDir: BioNERO.Rcheck Warnings: 0