Package: BioNERO Version: 1.14.0 Command: /home/biocbuild/bbs-3.20-bioc/R/bin/R CMD build --keep-empty-dirs --no-resave-data --md5 BioNERO StartedAt: 2025-02-03 16:35:17 -0500 (Mon, 03 Feb 2025) EndedAt: 2025-02-03 16:40:05 -0500 (Mon, 03 Feb 2025) EllapsedTime: 287.3 seconds RetCode: 0 Status: OK PackageFile: BioNERO_1.14.0.tar.gz PackageFileSize: 4.796 MiB