Package: BioNERO Version: 1.14.0 Command: F:\biocbuild\bbs-3.20-bioc\R\bin\R.exe CMD check --no-multiarch --install=check:BioNERO.install-out.txt --library=F:\biocbuild\bbs-3.20-bioc\R\library --no-vignettes --timings BioNERO_1.14.0.tar.gz StartedAt: 2025-02-10 23:38:12 -0500 (Mon, 10 Feb 2025) EndedAt: 2025-02-10 23:47:25 -0500 (Mon, 10 Feb 2025) EllapsedTime: 552.4 seconds RetCode: 0 Status: OK CheckDir: BioNERO.Rcheck Warnings: 0