Package: BioNERO Version: 1.14.0 Command: /home/biocbuild/R/R/bin/R CMD INSTALL BioNERO StartedAt: 2025-02-03 21:18:34 -0000 (Mon, 03 Feb 2025) EndedAt: 2025-02-03 21:19:18 -0000 (Mon, 03 Feb 2025) EllapsedTime: 44.0 seconds RetCode: 0 Status: OK