Package: BioQC Version: 1.34.0 Command: /Library/Frameworks/R.framework/Resources/bin/R CMD INSTALL BioQC StartedAt: 2025-02-03 15:19:09 -0500 (Mon, 03 Feb 2025) EndedAt: 2025-02-03 15:19:23 -0500 (Mon, 03 Feb 2025) EllapsedTime: 14.5 seconds RetCode: 0 Status: OK