Package: BioQC Version: 1.34.0 Command: F:\biocbuild\bbs-3.20-bioc\R\bin\R.exe CMD INSTALL BioQC StartedAt: 2025-02-03 15:38:58 -0500 (Mon, 03 Feb 2025) EndedAt: 2025-02-03 15:39:44 -0500 (Mon, 03 Feb 2025) EllapsedTime: 46.0 seconds RetCode: 0 Status: OK