Package: BioQC Version: 1.34.0 Command: /home/biocbuild/R/R/bin/R CMD check --install=check:BioQC.install-out.txt --library=/home/biocbuild/R/R/site-library --no-vignettes --timings BioQC_1.34.0.tar.gz StartedAt: 2025-02-11 04:17:41 -0000 (Tue, 11 Feb 2025) EndedAt: 2025-02-11 04:18:32 -0000 (Tue, 11 Feb 2025) EllapsedTime: 51.0 seconds RetCode: 0 Status: OK CheckDir: BioQC.Rcheck Warnings: 0