Package: BioQC Version: 1.34.0 Command: /home/biocbuild/R/R/bin/R CMD INSTALL BioQC StartedAt: 2025-02-10 20:14:19 -0000 (Mon, 10 Feb 2025) EndedAt: 2025-02-10 20:14:45 -0000 (Mon, 10 Feb 2025) EllapsedTime: 26.4 seconds RetCode: 0 Status: OK