Package: BioTIP Version: 1.20.0 Command: /Library/Frameworks/R.framework/Resources/bin/R CMD build --keep-empty-dirs --no-resave-data BioTIP StartedAt: 2025-02-03 19:39:37 -0500 (Mon, 03 Feb 2025) EndedAt: 2025-02-03 19:41:53 -0500 (Mon, 03 Feb 2025) EllapsedTime: 135.5 seconds RetCode: 0 Status: OK PackageFile: BioTIP_1.20.0.tar.gz PackageFileSize: 41.57 MiB