Package: BioTIP Version: 1.20.0 Command: /home/biocbuild/R/R/bin/R CMD build --keep-empty-dirs --no-resave-data BioTIP StartedAt: 2025-02-03 22:09:15 -0000 (Mon, 03 Feb 2025) EndedAt: 2025-02-03 22:16:14 -0000 (Mon, 03 Feb 2025) EllapsedTime: 418.1 seconds RetCode: 0 Status: OK PackageFile: BioTIP_1.20.0.tar.gz PackageFileSize: 40.57 MiB