Package: Biobase Version: 2.66.0 Command: rm -rf Biobase.buildbin-libdir && mkdir Biobase.buildbin-libdir && /Users/biocbuild/BBS/utils/build-universal.sh Biobase_2.66.0.tar.gz /Library/Frameworks/R.framework/Resources/bin/R Biobase.buildbin-libdir StartedAt: 2025-01-31 12:23:50 -0500 (Fri, 31 Jan 2025) EndedAt: 2025-01-31 12:24:19 -0500 (Fri, 31 Jan 2025) EllapsedTime: 29.5 seconds RetCode: 0 Status: OK PackageFile: Biobase_2.66.0.tgz PackageFileSize: 2.5 MiB