Package: Biobase Version: 2.66.0 Command: /Library/Frameworks/R.framework/Resources/bin/R CMD build --keep-empty-dirs --no-resave-data Biobase StartedAt: 2025-02-03 17:20:25 -0500 (Mon, 03 Feb 2025) EndedAt: 2025-02-03 17:21:16 -0500 (Mon, 03 Feb 2025) EllapsedTime: 51.8 seconds RetCode: 0 Status: OK PackageFile: Biobase_2.66.0.tar.gz PackageFileSize: 1.886 MiB