Package: Biobase Version: 2.66.0 Command: /home/biocbuild/bbs-3.20-bioc/R/bin/R CMD build --keep-empty-dirs --no-resave-data --md5 Biobase StartedAt: 2025-02-03 16:31:45 -0500 (Mon, 03 Feb 2025) EndedAt: 2025-02-03 16:32:01 -0500 (Mon, 03 Feb 2025) EllapsedTime: 16.0 seconds RetCode: 0 Status: OK PackageFile: Biobase_2.66.0.tar.gz PackageFileSize: 1.887 MiB