Package: Biobase Version: 2.66.0 Command: /home/biocbuild/bbs-3.20-bioc/R/bin/R CMD check --install=check:Biobase.install-out.txt --library=/home/biocbuild/bbs-3.20-bioc/R/site-library --timings Biobase_2.66.0.tar.gz StartedAt: 2025-02-03 20:23:15 -0500 (Mon, 03 Feb 2025) EndedAt: 2025-02-03 20:24:31 -0500 (Mon, 03 Feb 2025) EllapsedTime: 76.1 seconds RetCode: 0 Status: OK CheckDir: Biobase.Rcheck Warnings: 0