Package: Biobase Version: 2.66.0 Command: chmod a+r Biobase -R && F:\biocbuild\bbs-3.20-bioc\R\bin\R.exe CMD build --keep-empty-dirs --no-resave-data Biobase StartedAt: 2025-01-30 17:31:00 -0500 (Thu, 30 Jan 2025) EndedAt: 2025-01-30 17:32:22 -0500 (Thu, 30 Jan 2025) EllapsedTime: 82.6 seconds RetCode: 0 Status: OK PackageFile: Biobase_2.66.0.tar.gz PackageFileSize: 1.715 MiB