Package: Biobase Version: 2.66.0 Command: F:\biocbuild\bbs-3.20-bioc\R\bin\R.exe CMD check --no-multiarch --install=check:Biobase.install-out.txt --library=F:\biocbuild\bbs-3.20-bioc\R\library --no-vignettes --timings Biobase_2.66.0.tar.gz StartedAt: 2025-01-30 23:42:59 -0500 (Thu, 30 Jan 2025) EndedAt: 2025-01-30 23:44:50 -0500 (Thu, 30 Jan 2025) EllapsedTime: 111.3 seconds RetCode: 0 Status: OK CheckDir: Biobase.Rcheck Warnings: 0