Package: Biobase Version: 2.66.0 Command: /home/biocbuild/R/R/bin/R CMD build --keep-empty-dirs --no-resave-data Biobase StartedAt: 2025-01-30 21:56:53 -0000 (Thu, 30 Jan 2025) EndedAt: 2025-01-30 21:57:13 -0000 (Thu, 30 Jan 2025) EllapsedTime: 20.0 seconds RetCode: 0 Status: OK PackageFile: Biobase_2.66.0.tar.gz PackageFileSize: 1.926 MiB