Package: BiocBook Version: 1.4.0 Command: rm -rf BiocBook.buildbin-libdir && mkdir BiocBook.buildbin-libdir && /Users/biocbuild/BBS/utils/build-universal.sh BiocBook_1.4.0.tar.gz /Library/Frameworks/R.framework/Resources/bin/R BiocBook.buildbin-libdir StartedAt: 2025-02-01 14:03:11 -0500 (Sat, 01 Feb 2025) EndedAt: 2025-02-01 14:03:21 -0500 (Sat, 01 Feb 2025) EllapsedTime: 10.2 seconds RetCode: 0 Status: OK PackageFile: BiocBook_1.4.0.tgz PackageFileSize: 1.026 MiB