Package: BiocBook Version: 1.4.0 Command: /Library/Frameworks/R.framework/Resources/bin/R CMD build --keep-empty-dirs --no-resave-data BiocBook StartedAt: 2025-01-30 19:37:39 -0500 (Thu, 30 Jan 2025) EndedAt: 2025-01-30 19:38:16 -0500 (Thu, 30 Jan 2025) EllapsedTime: 36.5 seconds RetCode: 0 Status: OK PackageFile: BiocBook_1.4.0.tar.gz PackageFileSize: 902.7 KiB