Package: BiocBook Version: 1.4.0 Command: /Library/Frameworks/R.framework/Resources/bin/R CMD check --install=check:BiocBook.install-out.txt --library=/Library/Frameworks/R.framework/Resources/library --no-vignettes --timings BiocBook_1.4.0.tar.gz StartedAt: 2025-01-31 12:17:15 -0500 (Fri, 31 Jan 2025) EndedAt: 2025-01-31 12:19:25 -0500 (Fri, 31 Jan 2025) EllapsedTime: 130.1 seconds RetCode: 0 Status: OK CheckDir: BiocBook.Rcheck Warnings: 0